BEGIN:VCALENDAR
VERSION:2.0
PRODID:icalendar-ruby
CALSCALE:GREGORIAN
METHOD:PUBLISH
BEGIN:VEVENT
DTSTAMP:20260425T120737Z
UID:5-1807449@mexiabaptist.tithelysetup2.com
DTSTART:20260503T180000Z
DTEND:20260503T190000Z
CLASS:PUBLIC
CREATED:20260223T114418
DESCRIPTION:Sunday Worship
LAST-MODIFIED:20260223T114418
LOCATION:
SUMMARY:Sunday Worship
URL;VALUE=URI:https://mexiabaptist.tithelysetup2.com/events/sunday-worship/
 2026-05-03
END:VEVENT
END:VCALENDAR
