BEGIN:VCALENDAR
VERSION:2.0
PRODID:icalendar-ruby
CALSCALE:GREGORIAN
METHOD:PUBLISH
BEGIN:VEVENT
DTSTAMP:20260426T002123Z
UID:5-1807456@mexiabaptist.tithelysetup2.com
DTSTART:20260621T180000Z
DTEND:20260621T190000Z
CLASS:PUBLIC
CREATED:20260223T114418
DESCRIPTION:Sunday Worship
LAST-MODIFIED:20260223T114418
LOCATION:
SUMMARY:Sunday Worship
URL;VALUE=URI:https://mexiabaptist.tithelysetup2.com/events/sunday-worship/
 2026-06-21
END:VEVENT
END:VCALENDAR
